BEGIN:VCALENDAR
VERSION:2.0
PRODID:-//The Decibels Foundation - ECPv6.15.20//NONSGML v1.0//EN
CALSCALE:GREGORIAN
METHOD:PUBLISH
X-WR-CALNAME:The Decibels Foundation
X-ORIGINAL-URL:https://decibelsfoundation.org
X-WR-CALDESC:Events for The Decibels Foundation
REFRESH-INTERVAL;VALUE=DURATION:PT1H
X-Robots-Tag:noindex
X-PUBLISHED-TTL:PT1H
BEGIN:VTIMEZONE
TZID:America/New_York
BEGIN:DAYLIGHT
TZOFFSETFROM:-0500
TZOFFSETTO:-0400
TZNAME:EDT
DTSTART:20250309T070000
END:DAYLIGHT
BEGIN:STANDARD
TZOFFSETFROM:-0400
TZOFFSETTO:-0500
TZNAME:EST
DTSTART:20251102T060000
END:STANDARD
BEGIN:DAYLIGHT
TZOFFSETFROM:-0500
TZOFFSETTO:-0400
TZNAME:EDT
DTSTART:20260308T070000
END:DAYLIGHT
BEGIN:STANDARD
TZOFFSETFROM:-0400
TZOFFSETTO:-0500
TZNAME:EST
DTSTART:20261101T060000
END:STANDARD
BEGIN:DAYLIGHT
TZOFFSETFROM:-0500
TZOFFSETTO:-0400
TZNAME:EDT
DTSTART:20270314T070000
END:DAYLIGHT
BEGIN:STANDARD
TZOFFSETFROM:-0400
TZOFFSETTO:-0500
TZNAME:EST
DTSTART:20271107T060000
END:STANDARD
END:VTIMEZONE
BEGIN:VEVENT
DTSTART;TZID=America/New_York:20260411T100000
DTEND;TZID=America/New_York:20260411T110000
DTSTAMP:20260424T023531
CREATED:20260330T162029Z
LAST-MODIFIED:20260330T162029Z
UID:7906-1775901600-1775905200@decibelsfoundation.org
SUMMARY:Chelmsford Storytime
DESCRIPTION:For our annual Make Waves with Decibels awareness week\, we’re teaming up with local public libraries to bring your family storytimes featuring books that celebrate the Deaf and hard of hearing community! \n\n\n \n\n\nNo matter how you communicate\, there’s a seat (and a story) for you. Come discover some new characters and adventures!
URL:https://decibelsfoundation.org/event/chelmsford-storytime/
LOCATION:Chelmsford Public Library\, 25 Boston Rd\, Chelmsford\, MA\, 01824\, United States
CATEGORIES:Family Events,Massachusetts,The Decibels Foundation
ORGANIZER;CN="The Decibels Foundation":MAILTO:info@decibelsfoundation.org
END:VEVENT
END:VCALENDAR