BEGIN:VCALENDAR
VERSION:2.0
PRODID:-//The Decibels Foundation - ECPv6.15.20//NONSGML v1.0//EN
CALSCALE:GREGORIAN
METHOD:PUBLISH
X-ORIGINAL-URL:https://decibelsfoundation.org
X-WR-CALDESC:Events for The Decibels Foundation
REFRESH-INTERVAL;VALUE=DURATION:PT1H
X-Robots-Tag:noindex
X-PUBLISHED-TTL:PT1H
BEGIN:VTIMEZONE
TZID:America/New_York
BEGIN:DAYLIGHT
TZOFFSETFROM:-0500
TZOFFSETTO:-0400
TZNAME:EDT
DTSTART:20250309T070000
END:DAYLIGHT
BEGIN:STANDARD
TZOFFSETFROM:-0400
TZOFFSETTO:-0500
TZNAME:EST
DTSTART:20251102T060000
END:STANDARD
BEGIN:DAYLIGHT
TZOFFSETFROM:-0500
TZOFFSETTO:-0400
TZNAME:EDT
DTSTART:20260308T070000
END:DAYLIGHT
BEGIN:STANDARD
TZOFFSETFROM:-0400
TZOFFSETTO:-0500
TZNAME:EST
DTSTART:20261101T060000
END:STANDARD
BEGIN:DAYLIGHT
TZOFFSETFROM:-0500
TZOFFSETTO:-0400
TZNAME:EDT
DTSTART:20270314T070000
END:DAYLIGHT
BEGIN:STANDARD
TZOFFSETFROM:-0400
TZOFFSETTO:-0500
TZNAME:EST
DTSTART:20271107T060000
END:STANDARD
END:VTIMEZONE
BEGIN:VEVENT
DTSTART;TZID=America/New_York:20260407T133000
DTEND;TZID=America/New_York:20260407T163000
DTSTAMP:20260423T234955
CREATED:20260218T185902Z
LAST-MODIFIED:20260218T185902Z
UID:7772-1775568600-1775579400@decibelsfoundation.org
SUMMARY:Discovery Museum Inclusive Afternoon
DESCRIPTION:Join us with free admission during special hours for families and groups that would benefit from a limited capacity\, sensory friendly visit. During these events\, we offer accommodations that increase access to exhibits and provide an opportunity for families to network with one another in an understanding\, ADA-compliant environment. Extra steps are also taken for the comfort of our visitors including a designated Take-A-Break Space. \nAll events are free\, but pre-registration is required as space is limited. Registration will open 4 – 6 weeks prior to the event date. Please check our website to register. \nVisit while the Museum is open to the public\, but we do not schedule any group visits to avoid crowding.
URL:https://decibelsfoundation.org/event/discovery-museum-inclusive-afternoon-10/
LOCATION:Discovery Museum\, 177 Main St\, Acton\, MA\, 01720\, United States
CATEGORIES:Family Events,Massachusetts
END:VEVENT
END:VCALENDAR