BEGIN:VCALENDAR
VERSION:2.0
PRODID:-//The Decibels Foundation - ECPv6.15.20//NONSGML v1.0//EN
CALSCALE:GREGORIAN
METHOD:PUBLISH
X-WR-CALNAME:The Decibels Foundation
X-ORIGINAL-URL:https://decibelsfoundation.org
X-WR-CALDESC:Events for The Decibels Foundation
REFRESH-INTERVAL;VALUE=DURATION:PT1H
X-Robots-Tag:noindex
X-PUBLISHED-TTL:PT1H
BEGIN:VTIMEZONE
TZID:America/New_York
BEGIN:DAYLIGHT
TZOFFSETFROM:-0500
TZOFFSETTO:-0400
TZNAME:EDT
DTSTART:20250309T070000
END:DAYLIGHT
BEGIN:STANDARD
TZOFFSETFROM:-0400
TZOFFSETTO:-0500
TZNAME:EST
DTSTART:20251102T060000
END:STANDARD
BEGIN:DAYLIGHT
TZOFFSETFROM:-0500
TZOFFSETTO:-0400
TZNAME:EDT
DTSTART:20260308T070000
END:DAYLIGHT
BEGIN:STANDARD
TZOFFSETFROM:-0400
TZOFFSETTO:-0500
TZNAME:EST
DTSTART:20261101T060000
END:STANDARD
BEGIN:DAYLIGHT
TZOFFSETFROM:-0500
TZOFFSETTO:-0400
TZNAME:EDT
DTSTART:20270314T070000
END:DAYLIGHT
BEGIN:STANDARD
TZOFFSETFROM:-0400
TZOFFSETTO:-0500
TZNAME:EST
DTSTART:20271107T060000
END:STANDARD
END:VTIMEZONE
BEGIN:VEVENT
DTSTART;TZID=America/New_York:20260502T120000
DTEND;TZID=America/New_York:20260502T160000
DTSTAMP:20260423T234319
CREATED:20251202T195459Z
LAST-MODIFIED:20251202T195459Z
UID:3689-1777723200-1777737600@decibelsfoundation.org
SUMMARY:Board Game Social
DESCRIPTION:Come\, socialize\, play and have fun!\n\n\n\nSALEM BOARD GAME SOCIAL – All welcome\, join the fun!\n\nMay 2\, 2026\, 12 PM – 4 PM EST\, at DEAF\, Inc. Office\n35 Congress St\, Suite 220\nSalem\, MA 01970\n\nEnjoy a variety of fun games and bingo. Snacks and drinks provided\n\nIf any questions\, please call 617-505-4823 or email front desk: hello@deafincma.org.
URL:https://decibelsfoundation.org/event/board-game-social-11/
LOCATION:Deaf\, Inc – Salem\, 35 Congress St\, Suite 220\, MA\, 01970\, United States
CATEGORIES:Family Events,Massachusetts
ORGANIZER;CN="Deaf%2C Inc":MAILTO:hello@deafincma.org
END:VEVENT
BEGIN:VEVENT
DTSTART;TZID=America/New_York:20260505T133000
DTEND;TZID=America/New_York:20260505T163000
DTSTAMP:20260423T234319
CREATED:20260218T190021Z
LAST-MODIFIED:20260218T190021Z
UID:7774-1777987800-1777998600@decibelsfoundation.org
SUMMARY:Discovery Museum Inclusive Afternoon
DESCRIPTION:Join us with free admission during special hours for families and groups that would benefit from a limited capacity\, sensory friendly visit. During these events\, we offer accommodations that increase access to exhibits and provide an opportunity for families to network with one another in an understanding\, ADA-compliant environment. Extra steps are also taken for the comfort of our visitors including a designated Take-A-Break Space. \nAll events are free\, but pre-registration is required as space is limited. Registration will open 4 – 6 weeks prior to the event date. Please check our website to register. \nVisit while the Museum is open to the public\, but we do not schedule any group visits to avoid crowding.
URL:https://decibelsfoundation.org/event/discovery-museum-inclusive-afternoon-11/
LOCATION:Discovery Museum\, 177 Main St\, Acton\, MA\, 01720\, United States
CATEGORIES:Family Events,Massachusetts
END:VEVENT
BEGIN:VEVENT
DTSTART;TZID=America/New_York:20260509T120000
DTEND;TZID=America/New_York:20260509T160000
DTSTAMP:20260423T234319
CREATED:20251202T200025Z
LAST-MODIFIED:20251202T200025Z
UID:3696-1778328000-1778342400@decibelsfoundation.org
SUMMARY:Board Game Social
DESCRIPTION:Come\, socialize\, play and have fun!\n\n\n\nNEW BEDFORD BOARD GAME SOCIAL – All welcome\, join the fun!\n\nMay 9\, 2026\, 12 PM – 4 PM EST\, at DEAF\, Inc. Office\n227 Union St\, Mezzanine 2\nNew Bedford\, MA 02740\n\nEnjoy a variety of fun games and bingo. Snacks and drinks provided\n\nIf any questions\, please call 617-505-4823 or email front desk: hello@deafincma.org.
URL:https://decibelsfoundation.org/event/board-game-social-14/
LOCATION:Deaf\, Inc – New Bedford\, 227 Union St.\, New Bedford\, MA\, 02740\, United States
CATEGORIES:Family Events,Massachusetts
ORGANIZER;CN="Deaf%2C Inc":MAILTO:hello@deafincma.org
END:VEVENT
END:VCALENDAR