BEGIN:VCALENDAR
VERSION:2.0
PRODID:-//The Decibels Foundation - ECPv6.15.20//NONSGML v1.0//EN
CALSCALE:GREGORIAN
METHOD:PUBLISH
X-WR-CALNAME:The Decibels Foundation
X-ORIGINAL-URL:https://decibelsfoundation.org
X-WR-CALDESC:Events for The Decibels Foundation
REFRESH-INTERVAL;VALUE=DURATION:PT1H
X-Robots-Tag:noindex
X-PUBLISHED-TTL:PT1H
BEGIN:VTIMEZONE
TZID:America/New_York
BEGIN:DAYLIGHT
TZOFFSETFROM:-0500
TZOFFSETTO:-0400
TZNAME:EDT
DTSTART:20250309T070000
END:DAYLIGHT
BEGIN:STANDARD
TZOFFSETFROM:-0400
TZOFFSETTO:-0500
TZNAME:EST
DTSTART:20251102T060000
END:STANDARD
BEGIN:DAYLIGHT
TZOFFSETFROM:-0500
TZOFFSETTO:-0400
TZNAME:EDT
DTSTART:20260308T070000
END:DAYLIGHT
BEGIN:STANDARD
TZOFFSETFROM:-0400
TZOFFSETTO:-0500
TZNAME:EST
DTSTART:20261101T060000
END:STANDARD
BEGIN:DAYLIGHT
TZOFFSETFROM:-0500
TZOFFSETTO:-0400
TZNAME:EDT
DTSTART:20270314T070000
END:DAYLIGHT
BEGIN:STANDARD
TZOFFSETFROM:-0400
TZOFFSETTO:-0500
TZNAME:EST
DTSTART:20271107T060000
END:STANDARD
END:VTIMEZONE
BEGIN:VEVENT
DTSTART;TZID=America/New_York:20260303T133000
DTEND;TZID=America/New_York:20260303T163000
DTSTAMP:20260423T234400
CREATED:20260218T185641Z
LAST-MODIFIED:20260218T185641Z
UID:7768-1772544600-1772555400@decibelsfoundation.org
SUMMARY:Discovery Museum Inclusive Afternoon
DESCRIPTION:Join us with free admission during special hours for families and groups that would benefit from a limited capacity\, sensory friendly visit. During these events\, we offer accommodations that increase access to exhibits and provide an opportunity for families to network with one another in an understanding\, ADA-compliant environment. Extra steps are also taken for the comfort of our visitors including a designated Take-A-Break Space. \nAll events are free\, but pre-registration is required as space is limited. Registration will open 4 – 6 weeks prior to the event date. Please check our website to register. \nVisit while the Museum is open to the public\, but we do not schedule any group visits to avoid crowding.
URL:https://decibelsfoundation.org/event/discovery-museum-inclusive-afternoon-9/
LOCATION:Discovery Museum\, 177 Main St\, Acton\, MA\, 01720\, United States
CATEGORIES:Family Events,Massachusetts
END:VEVENT
BEGIN:VEVENT
DTSTART;TZID=America/New_York:20260307T093000
DTEND;TZID=America/New_York:20260307T123000
DTSTAMP:20260423T234400
CREATED:20260304T122122Z
LAST-MODIFIED:20260304T122122Z
UID:7841-1772875800-1772886600@decibelsfoundation.org
SUMMARY:Shared Reading Saturday
DESCRIPTION:Mar 07\, 2026 | 9:30 AM – 12:30 PM \nYoung children & families\n📍 Northern Essex Community College\, 45 Franklin St\, Lawrence\, MA\n→ RSVP
URL:https://decibelsfoundation.org/event/shared-reading-saturday-5/
LOCATION:Northern Essex Community College\, John R. Dimitry Building\, 45 Franklin St.\, Lawrence\, MA\, United States
CATEGORIES:Family Events,Massachusetts
END:VEVENT
BEGIN:VEVENT
DTSTART;TZID=America/New_York:20260307T110000
DTEND;TZID=America/New_York:20260307T130000
DTSTAMP:20260423T234400
CREATED:20260304T122005Z
LAST-MODIFIED:20260304T122005Z
UID:7837-1772881200-1772888400@decibelsfoundation.org
SUMMARY:Mass H&V Family Time Meetup - Acton
DESCRIPTION:Mar 7\, 2026 | 11:00 AM – 1:00 PM \nYoung children & families\n📍 Acton Memorial Library\, 486 Main St\, Acton\, MA \n→ RSVP
URL:https://decibelsfoundation.org/event/mass-hv-family-time-meetup-acton/
LOCATION:Acton Memorial Library\, 486 Main St\, Acton\, MA\, United States
CATEGORIES:Family Events,Massachusetts
END:VEVENT
BEGIN:VEVENT
DTSTART;TZID=America/New_York:20260314T120000
DTEND;TZID=America/New_York:20260314T160000
DTSTAMP:20260423T234400
CREATED:20251202T195410Z
LAST-MODIFIED:20251202T195410Z
UID:3687-1773489600-1773504000@decibelsfoundation.org
SUMMARY:Board Game Social
DESCRIPTION:Come\, socialize\, play and have fun!\n\n\n\nSALEM BOARD GAME SOCIAL – All welcome\, join the fun!\n\nMarch 14\, 2026\, 12 PM – 4 PM EST\, at DEAF\, Inc. Office\n35 Congress St\, Suite 220\nSalem\, MA 01970\n\nEnjoy a variety of fun games and bingo. Snacks and drinks provided\n\nIf any questions\, please call 617-505-4823 or email front desk: hello@deafincma.org.
URL:https://decibelsfoundation.org/event/board-game-social-10/
LOCATION:Deaf\, Inc – Salem\, 35 Congress St\, Suite 220\, MA\, 01970\, United States
CATEGORIES:Family Events,Massachusetts
ORGANIZER;CN="Deaf%2C Inc":MAILTO:hello@deafincma.org
END:VEVENT
BEGIN:VEVENT
DTSTART;TZID=America/New_York:20260321T120000
DTEND;TZID=America/New_York:20260321T160000
DTSTAMP:20260423T234400
CREATED:20251202T195936Z
LAST-MODIFIED:20251202T195936Z
UID:3694-1774094400-1774108800@decibelsfoundation.org
SUMMARY:Board Game Social
DESCRIPTION:Come\, socialize\, play and have fun!\n\n\n\nNEW BEDFORD BOARD GAME SOCIAL – All welcome\, join the fun!\n\nMarch 21\, 2026\, 12 PM – 4 PM EST\, at DEAF\, Inc. Office\n227 Union St\, Mezzanine 2\nNew Bedford\, MA 02740\n\nEnjoy a variety of fun games and bingo. Snacks and drinks provided\n\nIf any questions\, please call 617-505-4823 or email front desk: hello@deafincma.org.
URL:https://decibelsfoundation.org/event/board-game-social-13/
LOCATION:Deaf\, Inc – New Bedford\, 227 Union St.\, New Bedford\, MA\, 02740\, United States
CATEGORIES:Family Events,Massachusetts
ORGANIZER;CN="Deaf%2C Inc":MAILTO:hello@deafincma.org
END:VEVENT
BEGIN:VEVENT
DTSTART;TZID=America/New_York:20260321T170000
DTEND;TZID=America/New_York:20260321T200000
DTSTAMP:20260423T234400
CREATED:20260218T190559Z
LAST-MODIFIED:20260218T190559Z
UID:7780-1774112400-1774123200@decibelsfoundation.org
SUMMARY:Discovery Museum Inclusive Evening
DESCRIPTION:Join us with free admission during special hours for families and groups that would benefit from a limited capacity\, sensory friendly visit. During these events\, we offer accommodations that increase access to exhibits and provide an opportunity for families to network with one another in an understanding\, ADA-compliant environment. Extra steps are also taken for the comfort of our visitors including a designated Take-A-Break Space. \nAll events are free\, but pre-registration is required as space is limited. Registration will open 4 – 6 weeks prior to the event date. Please check our website to register. \nVisit when the Museum is closed to the public. Dinner (including a gluten-free option) provided.
URL:https://decibelsfoundation.org/event/discovery-museum-inclusive-evening-5/
LOCATION:Discovery Museum\, 177 Main St\, Acton\, MA\, 01720\, United States
CATEGORIES:Family Events,Massachusetts
END:VEVENT
BEGIN:VEVENT
DTSTART;TZID=America/New_York:20260321T170000
DTEND;TZID=America/New_York:20260321T200000
DTSTAMP:20260423T234400
CREATED:20260304T122756Z
LAST-MODIFIED:20260304T122756Z
UID:7845-1774112400-1774123200@decibelsfoundation.org
SUMMARY:ASL Game Night at CCCBSD
DESCRIPTION:Mar 21\, 2026 | 5:00 PM – 8:00 PM \nSchool-age kids\, teens\, and families\n📍 The Children’s Center for Communication\, 6 Echo Ave\, Beverly\, MA\n→ Learn More
URL:https://decibelsfoundation.org/event/asl-game-night-at-cccbsd/
LOCATION:The Children’s Center for Communication\, 6 Echo Ave\, Beverly\, MA\, United States
CATEGORIES:Family Events,Massachusetts
END:VEVENT
BEGIN:VEVENT
DTSTART;TZID=America/New_York:20260328T090000
DTEND;TZID=America/New_York:20260328T160000
DTSTAMP:20260423T234400
CREATED:20260324T133418Z
LAST-MODIFIED:20260324T133418Z
UID:7876-1774688400-1774713600@decibelsfoundation.org
SUMMARY:UNHSP Parent Forum
DESCRIPTION:The Universal Newborn Hearing Screening Program is hosting an event for parents with deaf and hard of hearing children. This is an opportunity for parents to meet and ask questions regarding services and learn from each other. This year the event will be held at Worcester State University on March 28th. The day will run from 9-4. An agenda and detailed information will be sent to registrants. The event is free; breakfast and lunch will be included. Childcare stipends will also be sent to families after the event.
URL:https://decibelsfoundation.org/event/unhsp-parent-forum/
LOCATION:Worcester State University Student Center\, 486 Chandler St\, Worcester\, MA\, 01602\, United States
CATEGORIES:Family Events,Massachusetts
ORGANIZER;CN="Massachusetts Universal Newborn Hearing Screening Program":MAILTO:sarah.stone@state.ma.us
END:VEVENT
BEGIN:VEVENT
DTSTART;TZID=America/New_York:20260331T183000
DTEND;TZID=America/New_York:20260331T203000
DTSTAMP:20260423T234400
CREATED:20260331T193121Z
LAST-MODIFIED:20260331T193121Z
UID:7909-1774981800-1774989000@decibelsfoundation.org
SUMMARY:Navigating the Path to ASL-Based Educational Services
DESCRIPTION:Harvard ASL Program presents a panel discussion night for parents of children who are Deaf/Hard of Hearing \nJoin for an evening of conversation with parents of Deaf and Hard of Hearing children as they share their experiences navigating educational systems\, advocating for language access\, and making decisions about ASL and school. \n 
URL:https://decibelsfoundation.org/event/navigating-the-path-to-asl-based-educational-services/
LOCATION:Harvard University Science Center\, 1 Oxford St\, Cambridge\, MA\, United States
CATEGORIES:Family Events,Massachusetts
END:VEVENT
END:VCALENDAR