BEGIN:VCALENDAR
VERSION:2.0
PRODID:-//The Decibels Foundation - ECPv6.15.20//NONSGML v1.0//EN
CALSCALE:GREGORIAN
METHOD:PUBLISH
X-WR-CALNAME:The Decibels Foundation
X-ORIGINAL-URL:https://decibelsfoundation.org
X-WR-CALDESC:Events for The Decibels Foundation
REFRESH-INTERVAL;VALUE=DURATION:PT1H
X-Robots-Tag:noindex
X-PUBLISHED-TTL:PT1H
BEGIN:VTIMEZONE
TZID:America/New_York
BEGIN:DAYLIGHT
TZOFFSETFROM:-0500
TZOFFSETTO:-0400
TZNAME:EDT
DTSTART:20250309T070000
END:DAYLIGHT
BEGIN:STANDARD
TZOFFSETFROM:-0400
TZOFFSETTO:-0500
TZNAME:EST
DTSTART:20251102T060000
END:STANDARD
BEGIN:DAYLIGHT
TZOFFSETFROM:-0500
TZOFFSETTO:-0400
TZNAME:EDT
DTSTART:20260308T070000
END:DAYLIGHT
BEGIN:STANDARD
TZOFFSETFROM:-0400
TZOFFSETTO:-0500
TZNAME:EST
DTSTART:20261101T060000
END:STANDARD
BEGIN:DAYLIGHT
TZOFFSETFROM:-0500
TZOFFSETTO:-0400
TZNAME:EDT
DTSTART:20270314T070000
END:DAYLIGHT
BEGIN:STANDARD
TZOFFSETFROM:-0400
TZOFFSETTO:-0500
TZNAME:EST
DTSTART:20271107T060000
END:STANDARD
END:VTIMEZONE
BEGIN:VEVENT
DTSTART;VALUE=DATE:20260424
DTEND;VALUE=DATE:20260427
DTSTAMP:20260424T012135
CREATED:20260218T192352Z
LAST-MODIFIED:20260218T192513Z
UID:7790-1776988800-1777247999@decibelsfoundation.org
SUMMARY:Success Horizon Camp 2026 9th-12th grade
DESCRIPTION:Is your D/HH child currently in 6th – 12th grade?  Are they interested in learning about leadership skills and meeting other peers with hearing loss?   This camp program is an excellent opportunity for them!\n\nThe program is coordinated by Katie McCarthy\, MBA\, and Charlotte Mullen\, AuD\, with Boston Children’s Hospital Deaf and Hard of Hearing Program.    There are several seats open at this time for the Success Leadership Camp program for MS students (April 26-28) and the Success Horizon Camp program for HS students (April 24-26).   We are accepting only up to 25 students per program so it may fill up quickly!   Camp will take place in Fairlee\, VT\, at the Hulbert Outdoor Center.   Families will be responsible for transportation.\n\nThe cost is $150 per child.  Scholarships are available upon request.  Generous funding was made possible through the Caroline Bass Fund and the Decibels Foundation.\n\nE-mail me at katie.mccarthy@childrens.harvard.edu if your child is interested in attending!  We will hold a virtual parent/caregiver meeting on Saturday\, March 7\, and send the registration packets upon confirmation of attendance.
URL:https://decibelsfoundation.org/event/success-horizon-camp-2026-9th-12th-grade/
LOCATION:Hulbert Outdoor Center\, 2899 Lake Morey Road\, Fairlee\, VT\, 05045\, United States
CATEGORIES:Family Events,Vermont
ORGANIZER;CN="Charlotte Mullen":MAILTO:charlotte.mullen@childrens.harvard.edu
END:VEVENT
END:VCALENDAR