BEGIN:VCALENDAR
VERSION:2.0
PRODID:-//The Decibels Foundation - ECPv6.15.20//NONSGML v1.0//EN
CALSCALE:GREGORIAN
METHOD:PUBLISH
X-ORIGINAL-URL:https://decibelsfoundation.org
X-WR-CALDESC:Events for The Decibels Foundation
REFRESH-INTERVAL;VALUE=DURATION:PT1H
X-Robots-Tag:noindex
X-PUBLISHED-TTL:PT1H
BEGIN:VTIMEZONE
TZID:America/New_York
BEGIN:DAYLIGHT
TZOFFSETFROM:-0500
TZOFFSETTO:-0400
TZNAME:EDT
DTSTART:20250309T070000
END:DAYLIGHT
BEGIN:STANDARD
TZOFFSETFROM:-0400
TZOFFSETTO:-0500
TZNAME:EST
DTSTART:20251102T060000
END:STANDARD
BEGIN:DAYLIGHT
TZOFFSETFROM:-0500
TZOFFSETTO:-0400
TZNAME:EDT
DTSTART:20260308T070000
END:DAYLIGHT
BEGIN:STANDARD
TZOFFSETFROM:-0400
TZOFFSETTO:-0500
TZNAME:EST
DTSTART:20261101T060000
END:STANDARD
BEGIN:DAYLIGHT
TZOFFSETFROM:-0500
TZOFFSETTO:-0400
TZNAME:EDT
DTSTART:20270314T070000
END:DAYLIGHT
BEGIN:STANDARD
TZOFFSETFROM:-0400
TZOFFSETTO:-0500
TZNAME:EST
DTSTART:20271107T060000
END:STANDARD
END:VTIMEZONE
BEGIN:VEVENT
DTSTART;TZID=America/New_York:20260311T190000
DTEND;TZID=America/New_York:20260311T210000
DTSTAMP:20260424T012459
CREATED:20260304T130049Z
LAST-MODIFIED:20260310T222311Z
UID:7860-1773255600-1773262800@decibelsfoundation.org
SUMMARY:My Child has Hearing Loss\, Now What? - Webinar
DESCRIPTION:The Universal Newborn Hearing Screening Program is hosting a webinar with Dr. Michelle Hu (Mama Hu Hears)\, “My Child has Hearing Loss\, Now What?” This webinar will be held on March 11th at 7PM. Registration is required. This webinar is focused on parents with children birth-three\, but all are welcome. \nReceiving a hearing loss diagnosis for your child can feel overwhelming\, confusing\, and isolating. This session is designed to meet parents exactly where they are\, offering clarity\, reassurance\, and practical guidance for the early stages of the journey. \n  \nLed by pediatric audiologist and deaf adult Michelle Hu\, this session blends professional expertise with lived experience. Michelle will share her personal story growing up as a DHH child\, becoming an audiologist and being on both sides of the clinic. She will answer questions about what to expect after diagnosis\, how to make sense of next steps\, and how to support their child with confidence and care. Parents will leave feeling less alone\, more informed\, and better equipped to advocate for their child. This is a supportive\, judgment-free space for questions\, big feelings\, and real-life concerns.
URL:https://decibelsfoundation.org/event/my-child-has-hearing-loss-now-what-webinar/
LOCATION:MA
CATEGORIES:Family Events
END:VEVENT
END:VCALENDAR