BEGIN:VCALENDAR
VERSION:2.0
PRODID:-//The Decibels Foundation - ECPv6.15.20//NONSGML v1.0//EN
CALSCALE:GREGORIAN
METHOD:PUBLISH
X-ORIGINAL-URL:https://decibelsfoundation.org
X-WR-CALDESC:Events for The Decibels Foundation
REFRESH-INTERVAL;VALUE=DURATION:PT1H
X-Robots-Tag:noindex
X-PUBLISHED-TTL:PT1H
BEGIN:VTIMEZONE
TZID:America/New_York
BEGIN:DAYLIGHT
TZOFFSETFROM:-0500
TZOFFSETTO:-0400
TZNAME:EDT
DTSTART:20240310T070000
END:DAYLIGHT
BEGIN:STANDARD
TZOFFSETFROM:-0400
TZOFFSETTO:-0500
TZNAME:EST
DTSTART:20241103T060000
END:STANDARD
BEGIN:DAYLIGHT
TZOFFSETFROM:-0500
TZOFFSETTO:-0400
TZNAME:EDT
DTSTART:20250309T070000
END:DAYLIGHT
BEGIN:STANDARD
TZOFFSETFROM:-0400
TZOFFSETTO:-0500
TZNAME:EST
DTSTART:20251102T060000
END:STANDARD
BEGIN:DAYLIGHT
TZOFFSETFROM:-0500
TZOFFSETTO:-0400
TZNAME:EDT
DTSTART:20260308T070000
END:DAYLIGHT
BEGIN:STANDARD
TZOFFSETFROM:-0400
TZOFFSETTO:-0500
TZNAME:EST
DTSTART:20261101T060000
END:STANDARD
END:VTIMEZONE
BEGIN:VEVENT
DTSTART;TZID=America/New_York:20251208T140000
DTEND;TZID=America/New_York:20251208T160000
DTSTAMP:20260424T062450
CREATED:20251202T193741Z
LAST-MODIFIED:20251202T193741Z
UID:3677-1765202400-1765209600@decibelsfoundation.org
SUMMARY:Holiday Party - Lawrence
DESCRIPTION:North Shore holiday party hosted by Deaf\, Inc. Everyone is welcome! 
URL:https://decibelsfoundation.org/event/holiday-party-lawrence/
LOCATION:Northern Essex Community College\, John R. Dimitry Building\, 45 Franklin St.\, Lawrence\, MA\, United States
CATEGORIES:Family Events,Massachusetts
ORGANIZER;CN="Deaf%2C Inc":MAILTO:hello@deafincma.org
END:VEVENT
END:VCALENDAR