BEGIN:VCALENDAR
VERSION:2.0
PRODID:-//The Decibels Foundation - ECPv6.15.20//NONSGML v1.0//EN
CALSCALE:GREGORIAN
METHOD:PUBLISH
X-WR-CALNAME:The Decibels Foundation
X-ORIGINAL-URL:https://decibelsfoundation.org
X-WR-CALDESC:Events for The Decibels Foundation
REFRESH-INTERVAL;VALUE=DURATION:PT1H
X-Robots-Tag:noindex
X-PUBLISHED-TTL:PT1H
BEGIN:VTIMEZONE
TZID:America/New_York
BEGIN:DAYLIGHT
TZOFFSETFROM:-0500
TZOFFSETTO:-0400
TZNAME:EDT
DTSTART:20240310T070000
END:DAYLIGHT
BEGIN:STANDARD
TZOFFSETFROM:-0400
TZOFFSETTO:-0500
TZNAME:EST
DTSTART:20241103T060000
END:STANDARD
BEGIN:DAYLIGHT
TZOFFSETFROM:-0500
TZOFFSETTO:-0400
TZNAME:EDT
DTSTART:20250309T070000
END:DAYLIGHT
BEGIN:STANDARD
TZOFFSETFROM:-0400
TZOFFSETTO:-0500
TZNAME:EST
DTSTART:20251102T060000
END:STANDARD
BEGIN:DAYLIGHT
TZOFFSETFROM:-0500
TZOFFSETTO:-0400
TZNAME:EDT
DTSTART:20260308T070000
END:DAYLIGHT
BEGIN:STANDARD
TZOFFSETFROM:-0400
TZOFFSETTO:-0500
TZNAME:EST
DTSTART:20261101T060000
END:STANDARD
END:VTIMEZONE
BEGIN:VEVENT
DTSTART;TZID=America/New_York:20251207T130000
DTEND;TZID=America/New_York:20251207T170000
DTSTAMP:20260424T062250
CREATED:20251202T193153Z
LAST-MODIFIED:20251202T193153Z
UID:3668-1765112400-1765126800@decibelsfoundation.org
SUMMARY:Switch Game Social
DESCRIPTION:Mass Deaf Social Switch Game Event \nGame start at 1:30pm
URL:https://decibelsfoundation.org/event/switch-game-social/
LOCATION:Mass Deaf Social\, 775 John Quincy Adams Rd\, Taunton\, MA\, 02780\, United States
CATEGORIES:Family Events,Massachusetts
ORGANIZER;CN="Mass Deaf Social":MAILTO:massdeafsocial@gmail.com
END:VEVENT
BEGIN:VEVENT
DTSTART;TZID=America/New_York:20251207T150000
DTEND;TZID=America/New_York:20251207T173000
DTSTAMP:20260424T062250
CREATED:20251202T191617Z
LAST-MODIFIED:20251202T191617Z
UID:3651-1765119600-1765128600@decibelsfoundation.org
SUMMARY:DEAFinitely Dance Workshop
DESCRIPTION:Deaf and hard of hearing youth\, siblings and hearing individuals are invited to participate in DEAFinitely Dance practices on the following dates Sunday\, Dec 7 & 14 and Sunday\, January 4 & 11 from 3 – 5:30 pm at the YMCA/Church Street in Newton. These classes offer the opportunity to learn ASL through games and activities\, as well as learning dance routines. Your child can join just for fun\, or they can participate in the classes and perform with the crew next year!  Each workshop is $40.  Register with DEAFinitelyCrew@gmail.com.
URL:https://decibelsfoundation.org/event/deafinitely-dance-workshop/
LOCATION:YMCA – Newton\, 276 Church St\, Newton\, MA\, 02458\, United States
CATEGORIES:Family Events,Massachusetts
ORGANIZER;CN="DEAFinitely%2C Inc":MAILTO:deafinitelycrew@gmail.com
END:VEVENT
END:VCALENDAR