BEGIN:VCALENDAR
VERSION:2.0
PRODID:-//The Decibels Foundation - ECPv6.15.20//NONSGML v1.0//EN
CALSCALE:GREGORIAN
METHOD:PUBLISH
X-ORIGINAL-URL:https://decibelsfoundation.org
X-WR-CALDESC:Events for The Decibels Foundation
REFRESH-INTERVAL;VALUE=DURATION:PT1H
X-Robots-Tag:noindex
X-PUBLISHED-TTL:PT1H
BEGIN:VTIMEZONE
TZID:America/New_York
BEGIN:DAYLIGHT
TZOFFSETFROM:-0500
TZOFFSETTO:-0400
TZNAME:EDT
DTSTART:20240310T070000
END:DAYLIGHT
BEGIN:STANDARD
TZOFFSETFROM:-0400
TZOFFSETTO:-0500
TZNAME:EST
DTSTART:20241103T060000
END:STANDARD
BEGIN:DAYLIGHT
TZOFFSETFROM:-0500
TZOFFSETTO:-0400
TZNAME:EDT
DTSTART:20250309T070000
END:DAYLIGHT
BEGIN:STANDARD
TZOFFSETFROM:-0400
TZOFFSETTO:-0500
TZNAME:EST
DTSTART:20251102T060000
END:STANDARD
BEGIN:DAYLIGHT
TZOFFSETFROM:-0500
TZOFFSETTO:-0400
TZNAME:EDT
DTSTART:20260308T070000
END:DAYLIGHT
BEGIN:STANDARD
TZOFFSETFROM:-0400
TZOFFSETTO:-0500
TZNAME:EST
DTSTART:20261101T060000
END:STANDARD
END:VTIMEZONE
BEGIN:VEVENT
DTSTART;TZID=America/New_York:20251027T193000
DTEND;TZID=America/New_York:20251027T210000
DTSTAMP:20260420T111002
CREATED:20251009T154546Z
LAST-MODIFIED:20251009T154737Z
UID:3544-1761593400-1761598800@decibelsfoundation.org
SUMMARY:Caregiver Circle (Virtual)
DESCRIPTION:Join us for Massachusetts Hands & Voices’ very first Virtual Caregiver Circle. \nMonday\, October 27 \n7:30- 9:00pm \nZoom \nASL Interpreters provided. \nCaregiver Circles are welcoming spaces where families raising children who are d/Deaf or hard of hearing can learn\, share\, and connect. This month is focused on everyday resilience—the small ways we adapt\, cope\, and find strength in daily life. \nRegistration
URL:https://decibelsfoundation.org/event/caregiver-circle-virtual/
LOCATION:MA
CATEGORIES:Family Events,Massachusetts
ORGANIZER;CN="Massachusetts Hands & Voices":MAILTO:chapter@masshv.org
END:VEVENT
END:VCALENDAR