BEGIN:VCALENDAR
VERSION:2.0
PRODID:-//The Decibels Foundation - ECPv6.15.20//NONSGML v1.0//EN
CALSCALE:GREGORIAN
METHOD:PUBLISH
X-WR-CALNAME:The Decibels Foundation
X-ORIGINAL-URL:https://decibelsfoundation.org
X-WR-CALDESC:Events for The Decibels Foundation
REFRESH-INTERVAL;VALUE=DURATION:PT1H
X-Robots-Tag:noindex
X-PUBLISHED-TTL:PT1H
BEGIN:VTIMEZONE
TZID:America/New_York
BEGIN:DAYLIGHT
TZOFFSETFROM:-0500
TZOFFSETTO:-0400
TZNAME:EDT
DTSTART:20240310T070000
END:DAYLIGHT
BEGIN:STANDARD
TZOFFSETFROM:-0400
TZOFFSETTO:-0500
TZNAME:EST
DTSTART:20241103T060000
END:STANDARD
BEGIN:DAYLIGHT
TZOFFSETFROM:-0500
TZOFFSETTO:-0400
TZNAME:EDT
DTSTART:20250309T070000
END:DAYLIGHT
BEGIN:STANDARD
TZOFFSETFROM:-0400
TZOFFSETTO:-0500
TZNAME:EST
DTSTART:20251102T060000
END:STANDARD
BEGIN:DAYLIGHT
TZOFFSETFROM:-0500
TZOFFSETTO:-0400
TZNAME:EDT
DTSTART:20260308T070000
END:DAYLIGHT
BEGIN:STANDARD
TZOFFSETFROM:-0400
TZOFFSETTO:-0500
TZNAME:EST
DTSTART:20261101T060000
END:STANDARD
END:VTIMEZONE
BEGIN:VEVENT
DTSTART;TZID=America/New_York:20251011T120000
DTEND;TZID=America/New_York:20251011T160000
DTSTAMP:20260419T111502
CREATED:20251009T153108Z
LAST-MODIFIED:20251009T153302Z
UID:3530-1760184000-1760198400@decibelsfoundation.org
SUMMARY:Board Game Social
DESCRIPTION:Come\, socialize\, play and have fun!\n\n\n\nWATERTOWN BOARD GAME SOCIAL – All welcome\, join the fun!\n\nOctober 11\, 2025\, 12 PM – 4 PM EST\, at DEAF\, Inc. Office\n50 Hunt St.\, Suite 200\, Watertown\, MA 02472\n\nEnjoy a variety of fun games and bingo.\n\nIf any questions\, please call 617-505-4823 or email front desk: hello@deafincma.org.
URL:https://decibelsfoundation.org/event/board-game-social-5/
LOCATION:Deaf\, Inc – Watertown\, 50 Hunt St\, Suite 200\, Watertown\, MA\, 02472\, United States
CATEGORIES:Family Events,Massachusetts
END:VEVENT
END:VCALENDAR