BEGIN:VCALENDAR
VERSION:2.0
PRODID:-//The Decibels Foundation - ECPv6.15.20//NONSGML v1.0//EN
CALSCALE:GREGORIAN
METHOD:PUBLISH
X-ORIGINAL-URL:https://decibelsfoundation.org
X-WR-CALDESC:Events for The Decibels Foundation
REFRESH-INTERVAL;VALUE=DURATION:PT1H
X-Robots-Tag:noindex
X-PUBLISHED-TTL:PT1H
BEGIN:VTIMEZONE
TZID:America/New_York
BEGIN:DAYLIGHT
TZOFFSETFROM:-0500
TZOFFSETTO:-0400
TZNAME:EDT
DTSTART:20240310T070000
END:DAYLIGHT
BEGIN:STANDARD
TZOFFSETFROM:-0400
TZOFFSETTO:-0500
TZNAME:EST
DTSTART:20241103T060000
END:STANDARD
BEGIN:DAYLIGHT
TZOFFSETFROM:-0500
TZOFFSETTO:-0400
TZNAME:EDT
DTSTART:20250309T070000
END:DAYLIGHT
BEGIN:STANDARD
TZOFFSETFROM:-0400
TZOFFSETTO:-0500
TZNAME:EST
DTSTART:20251102T060000
END:STANDARD
BEGIN:DAYLIGHT
TZOFFSETFROM:-0500
TZOFFSETTO:-0400
TZNAME:EDT
DTSTART:20260308T070000
END:DAYLIGHT
BEGIN:STANDARD
TZOFFSETFROM:-0400
TZOFFSETTO:-0500
TZNAME:EST
DTSTART:20261101T060000
END:STANDARD
END:VTIMEZONE
BEGIN:VEVENT
DTSTART;TZID=America/New_York:20251008T183000
DTEND;TZID=America/New_York:20251008T203000
DTSTAMP:20260419T083044
CREATED:20250909T214849Z
LAST-MODIFIED:20250909T214849Z
UID:3415-1759948200-1759955400@decibelsfoundation.org
SUMMARY:High School to College Transition Workshop
DESCRIPTION: The Family Education and Advocacy Team (FEAT) within the Boston Children’s Hospital Audiology & DHHP programs is pleased to offer their annual college transition workshop for deaf and hard of hearing students interested in attending college in the near future.\n\nHigh school juniors and seniors and their parents & caregivers are encouraged to attend.  The virtual workshop will be held on Wednesday\, October 8 from 6:30 – 8:30 p.m.  The flyer is attached in English and Spanish.\n\nInformation regarding housing and classroom accommodations\,  documentation for services\, scholarships\, and resources for D/HH students will be shared during the workshop.\n\nRegister with katie.mccarthy@childrens.harvard.edu and to get the Zoom link and time-ordered agenda prior to the meeting.
URL:https://decibelsfoundation.org/event/high-school-to-college-transition-workshop/
LOCATION:MA
CATEGORIES:Family Events
ORGANIZER;CN="BCH Deaf and Hard of Hearing Program":MAILTO:DHHPOutreach@childrens.harvard.edu
END:VEVENT
END:VCALENDAR