BEGIN:VCALENDAR
VERSION:2.0
PRODID:-//The Decibels Foundation - ECPv6.15.20//NONSGML v1.0//EN
CALSCALE:GREGORIAN
METHOD:PUBLISH
X-WR-CALNAME:The Decibels Foundation
X-ORIGINAL-URL:https://decibelsfoundation.org
X-WR-CALDESC:Events for The Decibels Foundation
REFRESH-INTERVAL;VALUE=DURATION:PT1H
X-Robots-Tag:noindex
X-PUBLISHED-TTL:PT1H
BEGIN:VTIMEZONE
TZID:America/New_York
BEGIN:DAYLIGHT
TZOFFSETFROM:-0500
TZOFFSETTO:-0400
TZNAME:EDT
DTSTART:20240310T070000
END:DAYLIGHT
BEGIN:STANDARD
TZOFFSETFROM:-0400
TZOFFSETTO:-0500
TZNAME:EST
DTSTART:20241103T060000
END:STANDARD
BEGIN:DAYLIGHT
TZOFFSETFROM:-0500
TZOFFSETTO:-0400
TZNAME:EDT
DTSTART:20250309T070000
END:DAYLIGHT
BEGIN:STANDARD
TZOFFSETFROM:-0400
TZOFFSETTO:-0500
TZNAME:EST
DTSTART:20251102T060000
END:STANDARD
BEGIN:DAYLIGHT
TZOFFSETFROM:-0500
TZOFFSETTO:-0400
TZNAME:EDT
DTSTART:20260308T070000
END:DAYLIGHT
BEGIN:STANDARD
TZOFFSETFROM:-0400
TZOFFSETTO:-0500
TZNAME:EST
DTSTART:20261101T060000
END:STANDARD
END:VTIMEZONE
BEGIN:VEVENT
DTSTART;TZID=America/New_York:20250222T090000
DTEND;TZID=America/New_York:20250222T110000
DTSTAMP:20260419T085934
CREATED:20250217T135941Z
LAST-MODIFIED:20250217T135941Z
UID:2937-1740214800-1740222000@decibelsfoundation.org
SUMMARY:Shared Reading Saturday
DESCRIPTION:Join Rhode Island School for the Deaf and Gallaudet University Regional Center East for Shared Reading Saturday! \n\nLearn to read to your child in American Sign Language using the 15 Principles of Reading to Your Deaf Child\nArts & Crafts related to the book theme\nFood & Drinks provided for all attendees\nFamilies will leave with a FREE copy of the book\n\nThis month’s book is Love You Forever by Robert Munsch
URL:https://decibelsfoundation.org/event/shared-reading-saturday/
LOCATION:Rhode Island School for the Deaf\, 1 Corliss Park\, Providence\, RI\, 02908\, United States
CATEGORIES:Family Events
END:VEVENT
END:VCALENDAR