BEGIN:VCALENDAR
VERSION:2.0
PRODID:-//The Decibels Foundation - ECPv6.15.20//NONSGML v1.0//EN
CALSCALE:GREGORIAN
METHOD:PUBLISH
X-ORIGINAL-URL:https://decibelsfoundation.org
X-WR-CALDESC:Events for The Decibels Foundation
REFRESH-INTERVAL;VALUE=DURATION:PT1H
X-Robots-Tag:noindex
X-PUBLISHED-TTL:PT1H
BEGIN:VTIMEZONE
TZID:America/New_York
BEGIN:DAYLIGHT
TZOFFSETFROM:-0500
TZOFFSETTO:-0400
TZNAME:EDT
DTSTART:20250309T070000
END:DAYLIGHT
BEGIN:STANDARD
TZOFFSETFROM:-0400
TZOFFSETTO:-0500
TZNAME:EST
DTSTART:20251102T060000
END:STANDARD
BEGIN:DAYLIGHT
TZOFFSETFROM:-0500
TZOFFSETTO:-0400
TZNAME:EDT
DTSTART:20260308T070000
END:DAYLIGHT
BEGIN:STANDARD
TZOFFSETFROM:-0400
TZOFFSETTO:-0500
TZNAME:EST
DTSTART:20261101T060000
END:STANDARD
BEGIN:DAYLIGHT
TZOFFSETFROM:-0500
TZOFFSETTO:-0400
TZNAME:EDT
DTSTART:20270314T070000
END:DAYLIGHT
BEGIN:STANDARD
TZOFFSETFROM:-0400
TZOFFSETTO:-0500
TZNAME:EST
DTSTART:20271107T060000
END:STANDARD
END:VTIMEZONE
BEGIN:VEVENT
DTSTART;TZID=America/New_York:20260207T110000
DTEND;TZID=America/New_York:20260207T150000
DTSTAMP:20260424T012011
CREATED:20251009T152453Z
LAST-MODIFIED:20251009T152619Z
UID:3520-1770462000-1770476400@decibelsfoundation.org
SUMMARY:Board Game Social
DESCRIPTION:Come\, socialize\, play and have fun!\n\n\n\nLAWRENCE BOARD GAME SOCIAL – All welcome\, join the fun!\n\nFebruary 7\, 2026\, 11 AM – 3 PM EST\, at DEAF\, Inc. Office\n370 Merrimack St.\, Suite 205\, Lawrence\, MA 01843\n\nEnjoy a variety of fun games and bingo.\n\nIf any questions\, please call 617-505-4823 or email front desk: hello@deafincma.org.
URL:https://decibelsfoundation.org/event/board-game-social-2/
LOCATION:Deaf\, Inc – Lawrence\, 370 Merrimack St\, Suite 205\, Lawrence\, MA\, 01843\, United States
CATEGORIES:Family Events,Massachusetts
END:VEVENT
BEGIN:VEVENT
DTSTART;TZID=America/New_York:20260221T120000
DTEND;TZID=America/New_York:20260221T160000
DTSTAMP:20260424T012011
CREATED:20251009T153216Z
LAST-MODIFIED:20251009T153216Z
UID:3534-1771675200-1771689600@decibelsfoundation.org
SUMMARY:Board Game Social
DESCRIPTION:Come\, socialize\, play and have fun!\n\n\n\nWATERTOWN BOARD GAME SOCIAL – All welcome\, join the fun!\n\nFebruary 21\, 2026\, 12 PM – 4 PM EST\, at DEAF\, Inc. Office\n50 Hunt St.\, Suite 200\, Watertown\, MA 02472\n\nEnjoy a variety of fun games and bingo.\n\nIf any questions\, please call 617-505-4823 or email front desk: hello@deafincma.org.
URL:https://decibelsfoundation.org/event/board-game-social-6/
LOCATION:Deaf\, Inc – Watertown\, 50 Hunt St\, Suite 200\, Watertown\, MA\, 02472\, United States
CATEGORIES:Family Events,Massachusetts
END:VEVENT
BEGIN:VEVENT
DTSTART;TZID=America/New_York:20260221T163000
DTEND;TZID=America/New_York:20260221T183000
DTSTAMP:20260424T012011
CREATED:20260218T191712Z
LAST-MODIFIED:20260218T191712Z
UID:7786-1771691400-1771698600@decibelsfoundation.org
SUMMARY:Jam Time Family Social
DESCRIPTION:We’ve got another event coming up! A family social is planned for February 21st from 4:30-6:30PM at Jam Time in Hanover (200 Webster Street\, Hanover). Come explore their newest location. Socks are required. \n \nThis event is for families who have a child who is deaf or hard of hearing. Please RSVP to sarah.stone@mass.gov with the names of family members attending\, the age(s) of the child(ren)\, the town you live in and if any accommodations are needed. This event is free. Hope you can attend!
URL:https://decibelsfoundation.org/event/jam-time-family-social/
LOCATION:MA
CATEGORIES:Family Events,Massachusetts
END:VEVENT
BEGIN:VEVENT
DTSTART;TZID=America/New_York:20260228T170000
DTEND;TZID=America/New_York:20260228T200000
DTSTAMP:20260424T012011
CREATED:20260218T190451Z
LAST-MODIFIED:20260218T190451Z
UID:7778-1772298000-1772308800@decibelsfoundation.org
SUMMARY:Discovery Museum Inclusive Evening
DESCRIPTION:Join us with free admission during special hours for families and groups that would benefit from a limited capacity\, sensory friendly visit. During these events\, we offer accommodations that increase access to exhibits and provide an opportunity for families to network with one another in an understanding\, ADA-compliant environment. Extra steps are also taken for the comfort of our visitors including a designated Take-A-Break Space. \nAll events are free\, but pre-registration is required as space is limited. Registration will open 4 – 6 weeks prior to the event date. Please check our website to register. \nVisit when the Museum is closed to the public. Dinner (including a gluten-free option) provided.
URL:https://decibelsfoundation.org/event/discovery-museum-inclusive-evening-4/
LOCATION:Discovery Museum\, 177 Main St\, Acton\, MA\, 01720\, United States
CATEGORIES:Family Events,Massachusetts
END:VEVENT
END:VCALENDAR