BEGIN:VCALENDAR
VERSION:2.0
PRODID:-//The Decibels Foundation - ECPv6.15.20//NONSGML v1.0//EN
CALSCALE:GREGORIAN
METHOD:PUBLISH
X-WR-CALNAME:The Decibels Foundation
X-ORIGINAL-URL:https://decibelsfoundation.org
X-WR-CALDESC:Events for The Decibels Foundation
REFRESH-INTERVAL;VALUE=DURATION:PT1H
X-Robots-Tag:noindex
X-PUBLISHED-TTL:PT1H
BEGIN:VTIMEZONE
TZID:America/New_York
BEGIN:DAYLIGHT
TZOFFSETFROM:-0500
TZOFFSETTO:-0400
TZNAME:EDT
DTSTART:20250309T070000
END:DAYLIGHT
BEGIN:STANDARD
TZOFFSETFROM:-0400
TZOFFSETTO:-0500
TZNAME:EST
DTSTART:20251102T060000
END:STANDARD
BEGIN:DAYLIGHT
TZOFFSETFROM:-0500
TZOFFSETTO:-0400
TZNAME:EDT
DTSTART:20260308T070000
END:DAYLIGHT
BEGIN:STANDARD
TZOFFSETFROM:-0400
TZOFFSETTO:-0500
TZNAME:EST
DTSTART:20261101T060000
END:STANDARD
BEGIN:DAYLIGHT
TZOFFSETFROM:-0500
TZOFFSETTO:-0400
TZNAME:EDT
DTSTART:20270314T070000
END:DAYLIGHT
BEGIN:STANDARD
TZOFFSETFROM:-0400
TZOFFSETTO:-0500
TZNAME:EST
DTSTART:20271107T060000
END:STANDARD
END:VTIMEZONE
BEGIN:VEVENT
DTSTART;TZID=America/New_York:20260104T150000
DTEND;TZID=America/New_York:20260104T173000
DTSTAMP:20260424T025127
CREATED:20251202T191858Z
LAST-MODIFIED:20251202T191858Z
UID:3658-1767538800-1767547800@decibelsfoundation.org
SUMMARY:DEAFinitely Dance Workshop
DESCRIPTION:Deaf and hard of hearing youth\, siblings and hearing individuals are invited to participate in DEAFinitely Dance practices on the following dates Sunday\, Dec 7 & 14 and Sunday\, January 4 & 11 from 3 – 5:30 pm at the YMCA/Church Street in Newton. These classes offer the opportunity to learn ASL through games and activities\, as well as learning dance routines. Your child can join just for fun\, or they can participate in the classes and perform with the crew next year!  Each workshop is $40.  Register with DEAFinitelyCrew@gmail.com.
URL:https://decibelsfoundation.org/event/deafinitely-dance-workshop-3/
LOCATION:YMCA – Newton\, 276 Church St\, Newton\, MA\, 02458\, United States
CATEGORIES:Family Events,Massachusetts
ORGANIZER;CN="DEAFinitely%2C Inc":MAILTO:deafinitelycrew@gmail.com
END:VEVENT
BEGIN:VEVENT
DTSTART;TZID=America/New_York:20260106T183000
DTEND;TZID=America/New_York:20260106T200000
DTSTAMP:20260424T025127
CREATED:20251202T190917Z
LAST-MODIFIED:20251202T190917Z
UID:3648-1767724200-1767729600@decibelsfoundation.org
SUMMARY:Transition Workshop - Middle School to High School
DESCRIPTION:The Family Education and Advocacy Team (FEAT) at Boston Children’s Hospital is hosting their annual middle school to high school transition workshop for deaf and hard of hearing middle schoolers and their families on Tuesday\, January 6 from 6:30 – 8:00 pm via Zoom. Register with Susan Gibbons at susan.gibbons@childrens.harvard.edu or Charlotte Mullen at charlotte.mullen@childrens.harvard.edu if your family would like to attend. \n 
URL:https://decibelsfoundation.org/event/transition-workshop-middle-school-to-high-school/
LOCATION:MA
CATEGORIES:Family Events,Massachusetts
ORGANIZER;CN="BCH Deaf and Hard of Hearing Program":MAILTO:DHHPOutreach@childrens.harvard.edu
END:VEVENT
BEGIN:VEVENT
DTSTART;TZID=America/New_York:20260111T150000
DTEND;TZID=America/New_York:20260111T173000
DTSTAMP:20260424T025127
CREATED:20251202T191942Z
LAST-MODIFIED:20251202T191942Z
UID:3660-1768143600-1768152600@decibelsfoundation.org
SUMMARY:DEAFinitely Dance Workshop
DESCRIPTION:Deaf and hard of hearing youth\, siblings and hearing individuals are invited to participate in DEAFinitely Dance practices on the following dates Sunday\, Dec 7 & 14 and Sunday\, January 4 & 11 from 3 – 5:30 pm at the YMCA/Church Street in Newton. These classes offer the opportunity to learn ASL through games and activities\, as well as learning dance routines. Your child can join just for fun\, or they can participate in the classes and perform with the crew next year!  Each workshop is $40.  Register with DEAFinitelyCrew@gmail.com.
URL:https://decibelsfoundation.org/event/deafinitely-dance-workshop-4/
LOCATION:YMCA – Newton\, 276 Church St\, Newton\, MA\, 02458\, United States
CATEGORIES:Family Events,Massachusetts
ORGANIZER;CN="DEAFinitely%2C Inc":MAILTO:deafinitelycrew@gmail.com
END:VEVENT
BEGIN:VEVENT
DTSTART;TZID=America/New_York:20260117T120000
DTEND;TZID=America/New_York:20260117T160000
DTSTAMP:20260424T025127
CREATED:20251202T195314Z
LAST-MODIFIED:20251202T195314Z
UID:3683-1768651200-1768665600@decibelsfoundation.org
SUMMARY:Board Game Social
DESCRIPTION:Come\, socialize\, play and have fun!\n\n\n\nSALEM BOARD GAME SOCIAL – All welcome\, join the fun!\n\nJanuary 17\, 2026\, 12 PM – 4 PM EST\, at DEAF\, Inc. Office\n35 Congress St\, Suite 220\nSalem\, MA 01970\n\nEnjoy a variety of fun games and bingo. Snacks and drinks provided\n\nIf any questions\, please call 617-505-4823 or email front desk: hello@deafincma.org.
URL:https://decibelsfoundation.org/event/board-game-social-9/
LOCATION:Deaf\, Inc – Salem\, 35 Congress St\, Suite 220\, MA\, 01970\, United States
CATEGORIES:Family Events,Massachusetts
ORGANIZER;CN="Deaf%2C Inc":MAILTO:hello@deafincma.org
END:VEVENT
BEGIN:VEVENT
DTSTART;TZID=America/New_York:20260124T120000
DTEND;TZID=America/New_York:20260124T160000
DTSTAMP:20260424T025127
CREATED:20251202T195848Z
LAST-MODIFIED:20251202T195848Z
UID:3691-1769256000-1769270400@decibelsfoundation.org
SUMMARY:Board Game Social
DESCRIPTION:Come\, socialize\, play and have fun!\n\n\n\nNEW BEDFORD BOARD GAME SOCIAL – All welcome\, join the fun!\n\nJanuary 24\, 2026\, 12 PM – 4 PM EST\, at DEAF\, Inc. Office\n227 Union St\, Mezzanine 2\nNew Bedford\, MA 02740\n\nEnjoy a variety of fun games and bingo. Snacks and drinks provided\n\nIf any questions\, please call 617-505-4823 or email front desk: hello@deafincma.org.
URL:https://decibelsfoundation.org/event/board-game-social-12/
LOCATION:Deaf\, Inc – New Bedford\, 227 Union St.\, New Bedford\, MA\, 02740\, United States
CATEGORIES:Family Events,Massachusetts
ORGANIZER;CN="Deaf%2C Inc":MAILTO:hello@deafincma.org
END:VEVENT
END:VCALENDAR