BEGIN:VCALENDAR
VERSION:2.0
PRODID:-//The Decibels Foundation - ECPv6.15.20//NONSGML v1.0//EN
CALSCALE:GREGORIAN
METHOD:PUBLISH
X-ORIGINAL-URL:https://decibelsfoundation.org
X-WR-CALDESC:Events for The Decibels Foundation
REFRESH-INTERVAL;VALUE=DURATION:PT1H
X-Robots-Tag:noindex
X-PUBLISHED-TTL:PT1H
BEGIN:VTIMEZONE
TZID:America/New_York
BEGIN:DAYLIGHT
TZOFFSETFROM:-0500
TZOFFSETTO:-0400
TZNAME:EDT
DTSTART:20240310T070000
END:DAYLIGHT
BEGIN:STANDARD
TZOFFSETFROM:-0400
TZOFFSETTO:-0500
TZNAME:EST
DTSTART:20241103T060000
END:STANDARD
BEGIN:DAYLIGHT
TZOFFSETFROM:-0500
TZOFFSETTO:-0400
TZNAME:EDT
DTSTART:20250309T070000
END:DAYLIGHT
BEGIN:STANDARD
TZOFFSETFROM:-0400
TZOFFSETTO:-0500
TZNAME:EST
DTSTART:20251102T060000
END:STANDARD
BEGIN:DAYLIGHT
TZOFFSETFROM:-0500
TZOFFSETTO:-0400
TZNAME:EDT
DTSTART:20260308T070000
END:DAYLIGHT
BEGIN:STANDARD
TZOFFSETFROM:-0400
TZOFFSETTO:-0500
TZNAME:EST
DTSTART:20261101T060000
END:STANDARD
BEGIN:DAYLIGHT
TZOFFSETFROM:-0500
TZOFFSETTO:-0400
TZNAME:EDT
DTSTART:20270314T070000
END:DAYLIGHT
BEGIN:STANDARD
TZOFFSETFROM:-0400
TZOFFSETTO:-0500
TZNAME:EST
DTSTART:20271107T060000
END:STANDARD
END:VTIMEZONE
BEGIN:VEVENT
DTSTART;TZID=America/New_York:20260325T120000
DTEND;TZID=America/New_York:20260325T130000
DTSTAMP:20260424T094946
CREATED:20260324T135215Z
LAST-MODIFIED:20260324T135215Z
UID:7890-1774440000-1774443600@decibelsfoundation.org
SUMMARY:“From Patient to Professional” for Providers
DESCRIPTION:The Universal Newborn Hearing Screening Program is hosting a webinar “From Patient to Professional” on March 25th from noon-1PM. Dr. Michelle Hu of Mama Hu Hears\, a pediatric audiologist who grew up with profound hearing levels\, will share her unique perspective as both patient and provider. Her story weaves together resilience\, the power of early intervention\, and the critical role ENTs and audiologists play in shaping families’ journeys. Attendees will gain insights into the emotional landscape parents navigate after diagnosis\, practical strategies for communication and counseling\, and the role of community-based resources. Michelle aims to honor clinicians while inspiring them to expand their impact beyond the audiogram. \nThis webinar is open to any interested provider. Registration is required. ASL and CART will be provided. Questions can be addressed to sarah.stone@mass.gov.
URL:https://decibelsfoundation.org/event/from-patient-to-professional-for-providers/
CATEGORIES:Educators and Professionals
ORGANIZER;CN="Massachusetts Universal Newborn Hearing Screening Program":MAILTO:sarah.stone@state.ma.us
END:VEVENT
BEGIN:VEVENT
DTSTART;TZID=America/New_York:20251103T090000
DTEND;TZID=America/New_York:20251103T160000
DTSTAMP:20260424T094946
CREATED:20250909T223832Z
LAST-MODIFIED:20250909T223832Z
UID:3442-1762160400-1762185600@decibelsfoundation.org
SUMMARY:Guide to Providing Services (GPS) Conference
DESCRIPTION:This year’s theme is: Understanding Neurodivergence in Early Childhood – Rethinking “Typical”: Embracing Neurodiverse Perspectives to Empower Deaf and Hard of Hearing Children. \nIt is essential to challenge the conventional definitions of “typical” by recognizing the unique experiences and strengths of neurodiverse individuals. By embracing these diverse perspectives\, we can create a more inclusive environment that empowers Deaf and hard-of-hearing children to thrive. Let’s celebrate their differences and ensure they have the support and resources necessary to reach their full potential. \nThis conference offered unique opportunity for Early Intervention Service Providers and Specialty Support Service Providers to come together to learn and to network. 
URL:https://decibelsfoundation.org/event/guide-to-providing-services-gps-conference/
LOCATION:The Learning Center for the Deaf\, 848 Central Street\, Framingham\, MA\, 01701\, United States
CATEGORIES:Educators and Professionals
ORGANIZER;CN="The Learning Center for the Deaf":MAILTO:advancement@tlcdeaf.org
END:VEVENT
BEGIN:VEVENT
DTSTART;VALUE=DATE:20251024
DTEND;VALUE=DATE:20251027
DTSTAMP:20260424T094946
CREATED:20250909T223302Z
LAST-MODIFIED:20250909T223302Z
UID:3437-1761264000-1761523199@decibelsfoundation.org
SUMMARY:Access and Support for Deaf People in Mental Health Settings
DESCRIPTION:Access and Support for Deaf People in Mental Health Settings – Massachusetts State Association of the Deaf\n\nWellsworth Hotel \n\n\nThe event will take place on October 24\, 25\, and 26\, 2025\, at the Wellsworth Hotel in Southbridge\, MA. The flyer lists mental health providers and interpreters as attendees. Registration costs $200 for breakfast and snacks\, and $300 for a full meal plan\, including lunch.
URL:https://decibelsfoundation.org/event/access-and-support-for-deaf-people-in-mental-health-settings/
LOCATION:Wellsworth Hotel\, 14 Mechanic St\, Southbridge\, MA\, 01550\, United States
CATEGORIES:Educators and Professionals
END:VEVENT
BEGIN:VEVENT
DTSTART;TZID=America/New_York:20251003T090000
DTEND;TZID=America/New_York:20251003T170000
DTSTAMP:20260424T094946
CREATED:20250909T222231Z
LAST-MODIFIED:20250909T222231Z
UID:3434-1759482000-1759510800@decibelsfoundation.org
SUMMARY:Deaf and Hard of Hearing Experiences in Healthcare Summit
DESCRIPTION:Time & Location\n\n\nOct 03\, 2025\, 12:00 AM – 12:05 AM \nVirtual \n\n\n\nAbout the event\n\n\n\nThis one-day virtual summit is designed for healthcare professionals and administrators in the areas of patient experience; patient relations; language services; risk management; and patient equity and engagement. Participants will be given a variety of tools\, strategies and best practices to improve communication access\, drive systemic change and\, ultimately\, improve the patient experience for Deaf\, hard of hearing\, DeafBlind and late-deafened individuals.
URL:https://decibelsfoundation.org/event/deaf-and-hard-of-hearing-experiences-in-healthcare-summit/
CATEGORIES:Educators and Professionals
ORGANIZER;CN="2axend":MAILTO:info@2axend.com
END:VEVENT
BEGIN:VEVENT
DTSTART;TZID=America/New_York:20250927T100000
DTEND;TZID=America/New_York:20250927T120000
DTSTAMP:20260424T094946
CREATED:20250819T143508Z
LAST-MODIFIED:20250819T143508Z
UID:3384-1758967200-1758974400@decibelsfoundation.org
SUMMARY:"Servicing Deaf Children in EI" for Early Intervention Providers
DESCRIPTION:The Massachusetts Speech-Language Hearing Association is offering an online webinar on September 27th from 10-12. The cost is $10 for members\, and $60 for non-members. \nThe presentation\, “Stepping into the Unfamiliar: Servicing Deaf Children in EI” is specifically for EI providers without extensive experience working with deaf and hard of hearing children. Additional information and registration can be found here: Massachusetts Speech-Language Hearing Association – Stepping Into the Unfamiliar: Servicing Deaf Children In EI
URL:https://decibelsfoundation.org/event/servicing-deaf-children-in-ei-for-early-intervention-providers/
CATEGORIES:Educators and Professionals
ORGANIZER;CN="Massachusetts Speech-Language Hearing Association":MAILTO:theoffice@mshahearsay.org
END:VEVENT
BEGIN:VEVENT
DTSTART;TZID=America/New_York:20250917T190000
DTEND;TZID=America/New_York:20250917T200000
DTSTAMP:20260424T094946
CREATED:20250909T221630Z
LAST-MODIFIED:20250909T221630Z
UID:3430-1758135600-1758139200@decibelsfoundation.org
SUMMARY:The Power of "AND" in Deaf Education
DESCRIPTION:Time & Location\n\n\nSep 17\, 2025\, 7:00 PM – 8:00 PM \nZoom \n\n\n\nAbout the event\n\n\n\nWhen it comes to deaf education\, it’s not about either/or—it’s about the power of AND!  \nThis upcoming Zoom live event explores why embracing multiple approaches leads to stronger outcomes for deaf and hard of hearing learners. \nJoin Dr. Wyatte Hall as he debunks the myth that using more than one language is harmful. Attendees will discover how rich\, consistent\, and varied language input supports healthy brain development and academic success.
URL:https://decibelsfoundation.org/event/the-power-of-and-in-deaf-education/
CATEGORIES:Educators and Professionals,Family Events
ORGANIZER;CN="Clerc Center at Gallaudet":MAILTO:clerc.center@gallaudet.edu
END:VEVENT
BEGIN:VEVENT
DTSTART;TZID=America/New_York:20250430T083000
DTEND;TZID=America/New_York:20250430T153000
DTSTAMP:20260424T094946
CREATED:20250214T160850Z
LAST-MODIFIED:20250214T161630Z
UID:2866-1746001800-1746027000@decibelsfoundation.org
SUMMARY:Supporting Deaf and Hard of Hearing Children to Maximize Language Learning with 21st Century Hearing Technology
DESCRIPTION:  \nSupporting Deaf and Hard of Hearing Children to Maximize Language Learning with 21st Century Hearing Technology: A Workshop for Early Intervention and Educational Professionals \nThis one-day workshop is designed for education and early intervention professionals with limited knowledge about the differences between cochlear implants and hearing aids\, how to support children with hearing to maximize language learning with technology\,  and transitioning children from early intervention or preschool to the mainstream.  Resources from a range of organizations will be discussed.  CEUs will be offered and attendees will receive a complimentary membership to ACI Alliance. \nWorkshop Schedule and Speakers
URL:https://decibelsfoundation.org/event/aci-educatorworks/
LOCATION:Omni Boston Seaport Hotel\, 450 Summer St\, Boston\, MA\, United States
CATEGORIES:Educators and Professionals
END:VEVENT
BEGIN:VEVENT
DTSTART;VALUE=DATE:20250430
DTEND;VALUE=DATE:20250504
DTSTAMP:20260424T094946
CREATED:20250214T161536Z
LAST-MODIFIED:20250214T161609Z
UID:2877-1745971200-1746316799@decibelsfoundation.org
SUMMARY:CI2025 Boston Conference on Cochlear Implants
DESCRIPTION:CI2025 is a multi-day international conference designed for hearing health professionals\, educators\, early intervention professionals\, government officials\, and others with some existing knowledge of cochlear implantation and other hearing technology\, candidacy\, outcomes\, (re)habilitation\, and related topics.  The conference explores ongoing clinical research that is changing cochlear implant provision in the United State and around the world. \nMember registration $465 early bird/$570 after 3/12 \nNon-member registration $665 early bird/$770 after 3/12 \nMeeting Flyer
URL:https://decibelsfoundation.org/event/ci2025-boston-conference-on-cochlear-implants/
LOCATION:Omni Boston Seaport Hotel\, 450 Summer St\, Boston\, MA\, United States
CATEGORIES:Educators and Professionals
END:VEVENT
END:VCALENDAR