BEGIN:VCALENDAR
VERSION:2.0
PRODID:-//The Decibels Foundation - ECPv6.15.20//NONSGML v1.0//EN
CALSCALE:GREGORIAN
METHOD:PUBLISH
X-WR-CALNAME:The Decibels Foundation
X-ORIGINAL-URL:https://decibelsfoundation.org
X-WR-CALDESC:Events for The Decibels Foundation
REFRESH-INTERVAL;VALUE=DURATION:PT1H
X-Robots-Tag:noindex
X-PUBLISHED-TTL:PT1H
BEGIN:VTIMEZONE
TZID:America/New_York
BEGIN:DAYLIGHT
TZOFFSETFROM:-0500
TZOFFSETTO:-0400
TZNAME:EDT
DTSTART:20250309T070000
END:DAYLIGHT
BEGIN:STANDARD
TZOFFSETFROM:-0400
TZOFFSETTO:-0500
TZNAME:EST
DTSTART:20251102T060000
END:STANDARD
BEGIN:DAYLIGHT
TZOFFSETFROM:-0500
TZOFFSETTO:-0400
TZNAME:EDT
DTSTART:20260308T070000
END:DAYLIGHT
BEGIN:STANDARD
TZOFFSETFROM:-0400
TZOFFSETTO:-0500
TZNAME:EST
DTSTART:20261101T060000
END:STANDARD
BEGIN:DAYLIGHT
TZOFFSETFROM:-0500
TZOFFSETTO:-0400
TZNAME:EDT
DTSTART:20270314T070000
END:DAYLIGHT
BEGIN:STANDARD
TZOFFSETFROM:-0400
TZOFFSETTO:-0500
TZNAME:EST
DTSTART:20271107T060000
END:STANDARD
END:VTIMEZONE
BEGIN:VEVENT
DTSTART;TZID=America/New_York:20260325T120000
DTEND;TZID=America/New_York:20260325T130000
DTSTAMP:20260424T094956
CREATED:20260324T135215Z
LAST-MODIFIED:20260324T135215Z
UID:7890-1774440000-1774443600@decibelsfoundation.org
SUMMARY:“From Patient to Professional” for Providers
DESCRIPTION:The Universal Newborn Hearing Screening Program is hosting a webinar “From Patient to Professional” on March 25th from noon-1PM. Dr. Michelle Hu of Mama Hu Hears\, a pediatric audiologist who grew up with profound hearing levels\, will share her unique perspective as both patient and provider. Her story weaves together resilience\, the power of early intervention\, and the critical role ENTs and audiologists play in shaping families’ journeys. Attendees will gain insights into the emotional landscape parents navigate after diagnosis\, practical strategies for communication and counseling\, and the role of community-based resources. Michelle aims to honor clinicians while inspiring them to expand their impact beyond the audiogram. \nThis webinar is open to any interested provider. Registration is required. ASL and CART will be provided. Questions can be addressed to sarah.stone@mass.gov.
URL:https://decibelsfoundation.org/event/from-patient-to-professional-for-providers/
CATEGORIES:Educators and Professionals
ORGANIZER;CN="Massachusetts Universal Newborn Hearing Screening Program":MAILTO:sarah.stone@state.ma.us
END:VEVENT
END:VCALENDAR